BEGIN:VCALENDAR
VERSION:2.0
PRODID:-//ChamberMaster//Event Calendar 2.0//EN
METHOD:PUBLISH
X-PUBLISHED-TTL:P3D
REFRESH-INTERVAL:P3D
CALSCALE:GREGORIAN
BEGIN:VEVENT
DTSTART:20260210T193000Z
DTEND:20260210T210000Z
X-MICROSOFT-CDO-ALLDAYEVENT:FALSE
SUMMARY:Chamber General Membership Presentation and Luncheon - February 2026
DESCRIPTION:Join us for our General Membership Presentation and Luncheon. Our GMP will be from 11:30 a.m. to 1 p.m. on Tuesday\, February 10 at the Courtyard by Marriott in Pullman. Our presentation will be from RJ Lott with the city of Pullman. \n\n\n\nReservations are required to attend - please RSVP by noon on Friday\, Feb. 6.\n\n\n\nCancellations accepted up to this same cutoff. No-Shows and late cancellations will be charged.
X-ALT-DESC;FMTTYPE=text/html:<p><span style="font-family:tahoma\;"><span style="font-size:16px\;">Join us for our General Membership Presentation and Luncheon. Our GMP will be from 11:30 a.m. to<span style="color: rgb(36\, 36\, 36)\;"> 1 p.m. on Tuesday\, February 10 at the Courtyard by Marriott&nbsp\;in Pullman. Our&nbsp\;presentation will be from RJ Lott with the city of Pullman.&nbsp\;</span></span><br />\n<br />\n<span style="font-size:16px\;"><strong>Reservations are required to attend - please RSVP by noon on Friday\, Feb. 6.</strong></span></span></p>\n\n<p><br />\n<span style="font-family:tahoma\;"><span style="font-size:16px\;">Cancellations accepted up to this same cutoff. No-Shows and late cancellations will be charged.</span></span><br />\n<br />\n<br />\n<br />\n&nbsp\;</p>\n
LOCATION:Courtyard by Marriott | Pullman\, WA 99163.
UID:e.1194.16451
SEQUENCE:3
DTSTAMP:20260425T105314Z
URL:https://business.pullmanchamber.com/events/details/chamber-general-membership-presentation-and-luncheon-february-2026-16451
END:VEVENT

END:VCALENDAR
