BEGIN:VCALENDAR
VERSION:2.0
PRODID:-//ChamberMaster//Event Calendar 2.0//EN
METHOD:PUBLISH
X-PUBLISHED-TTL:P3D
REFRESH-INTERVAL:P3D
CALSCALE:GREGORIAN
BEGIN:VEVENT
DTSTART:20260528T013000Z
DTEND:20260528T033000Z
X-MICROSOFT-CDO-ALLDAYEVENT:FALSE
SUMMARY:Pullman Public Schools Regular Board Meeting
DESCRIPTION:-School Showcase: LMS & PHS Student Ambassadors -Annual Review: Graduation Policy 2410/P
X-ALT-DESC;FMTTYPE=text/html:-School Showcase: LMS &amp\; PHS Student Ambassadors -Annual Review: Graduation Policy 2410/P
LOCATION:Pullman High School Board Room 510 NW Greyhound Way Pullman\, WA 99163
UID:e.1194.16397
SEQUENCE:3
DTSTAMP:20260423T102403Z
URL:https://business.pullmanchamber.com/events/details/pullman-public-schools-regular-board-meeting-05-27-2026-16397
END:VEVENT

END:VCALENDAR
