BEGIN:VCALENDAR
VERSION:2.0
PRODID:-//ChamberMaster//Event Calendar 2.0//EN
METHOD:PUBLISH
X-PUBLISHED-TTL:P3D
REFRESH-INTERVAL:P3D
CALSCALE:GREGORIAN
BEGIN:VEVENT
DTSTART:20260625T013000Z
DTEND:20260625T033000Z
X-MICROSOFT-CDO-ALLDAYEVENT:FALSE
SUMMARY:Pullman Public Schools Regular Board Meeting
DESCRIPTION:-Professional Learning Communities (PLC) Summary Report -LMS & PHS Athletics and Activities\, Title IX Reports -Wellness & Workforce Mental Health Committee Report -Approve: ASB Fundraisers & Clubs -Classified Staffing
X-ALT-DESC;FMTTYPE=text/html:-Professional Learning Communities (PLC) Summary Report -LMS &amp\; PHS Athletics and Activities\, Title IX Reports -Wellness &amp\; Workforce Mental Health Committee Report -Approve: ASB Fundraisers &amp\; Clubs -Classified Staffing
LOCATION:Pullman High School Board Room 510 NW Greyhound Way Pullman\, WA 99163
UID:e.1194.16400
SEQUENCE:3
DTSTAMP:20260422T085505Z
URL:https://business.pullmanchamber.com/events/details/pullman-public-schools-regular-board-meeting-06-24-2026-16400
END:VEVENT

END:VCALENDAR
