BEGIN:VCALENDAR
VERSION:2.0
PRODID:-//ChamberMaster//Event Calendar 2.0//EN
METHOD:PUBLISH
X-PUBLISHED-TTL:P3D
REFRESH-INTERVAL:P3D
CALSCALE:GREGORIAN
BEGIN:VEVENT
DTSTART:20260424T010000Z
DTEND:20260424T030000Z
X-MICROSOFT-CDO-ALLDAYEVENT:FALSE
SUMMARY:Pullman Young Professionals Community Mixer At the Hampton Inn
DESCRIPTION:Pullman Young Professionals invites you to our next Community Mixer on April 23 at 6:00 PM at Hampton Inn Pullman\, Crimson Bar & Bites. This event is a great opportunity to connect with fellow young professionals\, expand your network\, and build meaningful relationships in a relaxed and welcoming setting. Light snacks will be provided. Sponsored by Edward Jones   Dennis G. Logan\, Financial Advisor.
X-ALT-DESC;FMTTYPE=text/html:<span style="color: rgb(0\, 0\, 0)\; font-family: avenir-lt-w01_35-light1475496\, sans-serif\; font-size: 16px\; white-space-collapse: break-spaces\;">Pullman Young Professionals invites you to our next Community Mixer on April 23 at 6:00 PM at Hampton Inn Pullman\, Crimson Bar &amp\; Bites. This event is a great opportunity to connect with fellow young professionals\, expand your network\, and build meaningful relationships in a relaxed and welcoming setting. Light snacks will be provided. Sponsored by Edward Jones &ndash\; Dennis G. Logan\, Financial Advisor.</span>
LOCATION:Hampton Inn Pullman\, 1190 SE Bishop Blvd\, Pullman\, WA 99163\, USA
UID:e.1194.16526
SEQUENCE:3
DTSTAMP:20260421T032832Z
URL:https://business.pullmanchamber.com/events/details/pullman-young-professionals-community-mixer-at-the-hampton-inn-16526
END:VEVENT

END:VCALENDAR
